BEGIN:VCALENDAR
VERSION:2.0
PRODID:-//AddThisEvent.com v1.0//EN
BEGIN:VEVENT
DTSTAMP:20181002T170500Z
ORGANIZER;CN=STARTUP:MAILTO:info@startup.si
STATUS:CONFIRMED
DTSTART:20181002T170500Z
DTEND:20181002T180500Z
SUMMARY:REST ali GraphQL API? - #wwwhmb no. 88
DESCRIPTION:V preteklosti je bilo veliko povedanega o GraphQL\, ampak je ta pristop res toliko boljši od REST? Kakšne so razlike obema možnostima in kaj to pomeni za frontend razvijalce? Kaj sta React Redux ter Apollo client in v katerih primerih ju je smiselno uporabiti? \n\n
X-ALT-DESC;FMTTYPE=text/html:V preteklosti je bilo veliko povedanega o GraphQL\, ampak je ta pristop res toliko boljši od REST? Kakšne so razlike obema možnostima in kaj to pomeni za frontend razvijalce? Kaj sta React Redux ter Apollo client in v katerih primerih ju je smiselno uporabiti? \n\n
LOCATION:Ulica kneza Koclja 9\, 2000 Maribor\, Slovenia
END:VEVENT
END:VCALENDAR