BEGIN:VCALENDAR
VERSION:2.0
PRODID:-//AddThisEvent.com v1.0//EN
BEGIN:VEVENT
DTSTAMP:20180925T170500Z
ORGANIZER;CN=STARTUP:MAILTO:info@startup.si
STATUS:CONFIRMED
DTSTART:20180925T170500Z
DTEND:20180925T180500Z
SUMMARY:Start:up Müsli: Kako brand zleze pod kožo kupca
DESCRIPTION:Glavno vprašanje tokratnega Start:up Műslija bo: »Kako doseči\, da stranka vedno\, ko potrebuje produkt ali storitev\, ki jo imaš ti\, najprej pomisli nate?« Ali z drugimi besedami\, kako osvojiti srce stranke in jo spremeniti v ambasadorko tvojega branda. V dobri uri našega druženja boš slišal zgodbe mnogih uspešnih brandov\, ki so jih gradili naši gostje. \n\n
X-ALT-DESC;FMTTYPE=text/html:Glavno vprašanje tokratnega Start:up Műslija bo: »Kako doseči\, da stranka vedno\, ko potrebuje produkt ali storitev\, ki jo imaš ti\, najprej pomisli nate?« Ali z drugimi besedami\, kako osvojiti srce stranke in jo spremeniti v ambasadorko tvojega branda. V dobri uri našega druženja boš slišal zgodbe mnogih uspešnih brandov\, ki so jih gradili naši gostje. \n\n
LOCATION:@KID KIBLA\, Maribor
END:VEVENT
END:VCALENDAR