BEGIN:VCALENDAR
VERSION:2.0
PRODID:-//AddThisEvent.com v1.0//EN
BEGIN:VEVENT
DTSTAMP:20180612T170500Z
ORGANIZER;CN=STARTUP:MAILTO:info@startup.si
STATUS:CONFIRMED
DTSTART:20180612T170500Z
DTEND:20180612T180500Z
SUMMARY:Start:up Müsli: Spoznajte zgodbe uspešnih podjetniških parov
DESCRIPTION:Ne zamudi zadnjega Müslija tokratne sezone. V Kibli bomo gostili pare\, ki se požvižgajo na znani kliše\, da zasebnega in poslovnega ne gre mešati. Z nami bodo delili recept za uspešen posel (in dobro zvezo). \n\n
X-ALT-DESC;FMTTYPE=text/html:Ne zamudi zadnjega Müslija tokratne sezone. V Kibli bomo gostili pare\, ki se požvižgajo na znani kliše\, da zasebnega in poslovnega ne gre mešati. Z nami bodo delili recept za uspešen posel (in dobro zvezo). \n\n
LOCATION:@KID KIBLA\, Maribor
END:VEVENT
END:VCALENDAR