BEGIN:VCALENDAR
VERSION:2.0
PRODID:-//AddThisEvent.com v1.0//EN
BEGIN:VEVENT
DTSTAMP:20180403T170500Z
ORGANIZER;CN=STARTUP:MAILTO:info@startup.si
STATUS:CONFIRMED
DTSTART:20180403T170500Z
DTEND:20180403T180500Z
SUMMARY:Start:up Müsli: Kako lahko telefon spremenimo v čisto pravo denarnico
DESCRIPTION:Nobena bančna aplikacija pa ni uporabna kot neposredno plačilno sredstvo za vsakodnevne fizične nakupe. Najbrž se vam je že zgodilo\, da ste prijatelja povabili na pijačo in dobili bled obraz\, ko je strežba prinesla račun?\, Ali pa ste na bencinskem servisu natočili poln tank goriva in po stanju v 25 metrski vrsti na blagajni ugotovili\, da imate denarnico v avtu? Medtem\, pa ste z vašo mobilno napravo naredili selfie\, ga objavili na Instagramu ali Snapchatu\, ter zraven tega twittnili #fml. Niste pa vedeli\, a obstaja rešitev\, ki omogoča neposredno plačevanje vsakodnevnih nakupov s pomočjo mobilne naprave. \n\n
X-ALT-DESC;FMTTYPE=text/html:Nobena bančna aplikacija pa ni uporabna kot neposredno plačilno sredstvo za vsakodnevne fizične nakupe. Najbrž se vam je že zgodilo\, da ste prijatelja povabili na pijačo in dobili bled obraz\, ko je strežba prinesla račun?\, Ali pa ste na bencinskem servisu natočili poln tank goriva in po stanju v 25 metrski vrsti na blagajni ugotovili\, da imate denarnico v avtu? Medtem\, pa ste z vašo mobilno napravo naredili selfie\, ga objavili na Instagramu ali Snapchatu\, ter zraven tega twittnili #fml. Niste pa vedeli\, a obstaja rešitev\, ki omogoča neposredno plačevanje vsakodnevnih nakupov s pomočjo mobilne naprave. \n\n
LOCATION:@KID KIBLA\, Maribor
END:VEVENT
END:VCALENDAR