BEGIN:VCALENDAR
VERSION:2.0
PRODID:-//AddThisEvent.com v1.0//EN
BEGIN:VEVENT
DTSTAMP:20180306T180500Z
ORGANIZER;CN=STARTUP:MAILTO:info@startup.si
STATUS:CONFIRMED
DTSTART:20180306T180500Z
DTEND:20180306T190500Z
SUMMARY:Start:up Müsli: Kako smo naredili kriptokovance dobrodelne
DESCRIPTION:Cherr.io ekipa bo z vami delila svoje izkušnje pri načrtovanju kampanje za zbiranje kriptosredstev\, ter predstavila koncept “ICO”\, oz. Initial Coin Offering\, ki postaja vse bolj priljubljen način financiranja. Ekipa bo z vami delila svoje cilje za prihodnost\, ter predstavila vizijo pametnega dobrodelnega projekta\, ki bo poskušal disruptirati klasičen model dobrodelnosti.​ \n\n
X-ALT-DESC;FMTTYPE=text/html:Cherr.io ekipa bo z vami delila svoje izkušnje pri načrtovanju kampanje za zbiranje kriptosredstev\, ter predstavila koncept “ICO”\, oz. Initial Coin Offering\, ki postaja vse bolj priljubljen način financiranja. Ekipa bo z vami delila svoje cilje za prihodnost\, ter predstavila vizijo pametnega dobrodelnega projekta\, ki bo poskušal disruptirati klasičen model dobrodelnosti.​ \n\n
LOCATION:@KID KIBLA\, Maribor
END:VEVENT
END:VCALENDAR