BEGIN:VCALENDAR
VERSION:2.0
PRODID:-//AddThisEvent.com v1.0//EN
BEGIN:VEVENT
DTSTAMP:20260119T100000Z
ORGANIZER;CN=STARTUP:MAILTO:info@startup.si
STATUS:CONFIRMED
DTSTART:20260119T100000Z
DTEND:20260119T110000Z
SUMMARY:Testiranje poslovnih idej v praksi
DESCRIPTION:Imaš idejo\, pa ne veš\, ali ima resen potencial? Se sprašuješ\, kako preveriti\, ali tvoja rešitev rešuje pravi problem in ali zanjo sploh obstaja trg?
Potem je ta delavnica prava zate. \n\n
X-ALT-DESC;FMTTYPE=text/html:Imaš idejo\, pa ne veš\, ali ima resen potencial? Se sprašuješ\, kako preveriti\, ali tvoja rešitev rešuje pravi problem in ali zanjo sploh obstaja trg?
Potem je ta delavnica prava zate. \n\n
LOCATION:Fakulteta za elektrotehniko\, računalništvo in informatiko\, Maribor
END:VEVENT
END:VCALENDAR