BEGIN:VCALENDAR
VERSION:2.0
PRODID:-//AddThisEvent.com v1.0//EN
BEGIN:VEVENT
DTSTAMP:20251211T170000Z
ORGANIZER;CN=STARTUP:MAILTO:info@startup.si
STATUS:CONFIRMED
DTSTART:20251211T170000Z
DTEND:20251211T180000Z
SUMMARY:Ko se srečajo ideje\, energija in ambicija: novoletno druženje startup skupnosti.
DESCRIPTION:Eden najlepših decembrskih večerov startup skupnosti — tokrat v Mariboru. \n\n
X-ALT-DESC;FMTTYPE=text/html:Eden najlepših decembrskih večerov startup skupnosti — tokrat v Mariboru. \n\n
LOCATION:
END:VEVENT
END:VCALENDAR