BEGIN:VCALENDAR
VERSION:2.0
PRODID:-//AddThisEvent.com v1.0//EN
BEGIN:VEVENT
DTSTAMP:20251111T170000Z
ORGANIZER;CN=STARTUP:MAILTO:info@startup.si
STATUS:CONFIRMED
DTSTART:20251111T170000Z
DTEND:20251111T180000Z
SUMMARY:GeoDev Meetup: Na preseku prostorskih in informacijskih tehnologij
DESCRIPTION:Če te zanimajo avtomatizacija podatkovnih procesov\, prostorske in informacijske tehnologije ali etična uporaba podatkov\, potem tega večera ne smeš zamuditi.  \n\n
X-ALT-DESC;FMTTYPE=text/html:Če te zanimajo avtomatizacija podatkovnih procesov\, prostorske in informacijske tehnologije ali etična uporaba podatkov\, potem tega večera ne smeš zamuditi.  \n\n
LOCATION:KID Kibla\, Maribor
END:VEVENT
END:VCALENDAR