BEGIN:VCALENDAR
VERSION:2.0
PRODID:-//AddThisEvent.com v1.0//EN
BEGIN:VEVENT
DTSTAMP:20251014T160000Z
ORGANIZER;CN=STARTUP:MAILTO:info@startup.si
STATUS:CONFIRMED
DTSTART:20251014T160000Z
DTEND:20251014T170000Z
SUMMARY:Sedanjost in prihodnost digitalnih produktov
DESCRIPTION:Digitalni produkti so danes povsod – od aplikacij\, ki jih uporabljamo vsak dan\, do kompleksnih platform\, ki poganjajo globalna podjetja. A kaj pravzaprav loči odličen digitalni produkt od povprečnega? Zakaj nekateri osvojijo milijone uporabnikov\, drugi pa izginejo brez sledu? \n\n
X-ALT-DESC;FMTTYPE=text/html:Digitalni produkti so danes povsod – od aplikacij\, ki jih uporabljamo vsak dan\, do kompleksnih platform\, ki poganjajo globalna podjetja. A kaj pravzaprav loči odličen digitalni produkt od povprečnega? Zakaj nekateri osvojijo milijone uporabnikov\, drugi pa izginejo brez sledu? \n\n
LOCATION:KID Kibla
END:VEVENT
END:VCALENDAR