BEGIN:VCALENDAR
VERSION:2.0
PRODID:-//AddThisEvent.com v1.0//EN
BEGIN:VEVENT
DTSTAMP:20250930T160000Z
ORGANIZER;CN=STARTUP:MAILTO:info@startup.si
STATUS:CONFIRMED
DTSTART:20250930T160000Z
DTEND:20250930T170000Z
SUMMARY:Kripto pod drobnogledom: novi slovenski davki in EU regulativa MiCA
DESCRIPTION:💡 Kripto že dolgo ni več divji zahod. Regulacija je tu – in slej ko prej bo dosegla tudi tebe. \n\n
X-ALT-DESC;FMTTYPE=text/html:💡 Kripto že dolgo ni več divji zahod. Regulacija je tu – in slej ko prej bo dosegla tudi tebe. \n\n
LOCATION:KID Kibla\, Maribor
END:VEVENT
END:VCALENDAR