BEGIN:VCALENDAR
VERSION:2.0
PRODID:-//AddThisEvent.com v1.0//EN
BEGIN:VEVENT
DTSTAMP:20250210T113000Z
ORGANIZER;CN=STARTUP:MAILTO:info@startup.si
STATUS:CONFIRMED
DTSTART:20250210T113000Z
DTEND:20250210T123000Z
SUMMARY:Podjetni imajo prednost
DESCRIPTION:Na tvoji podjetniški poti\, ti lahko Tovarna podjemov pomaga na različne načine. Pridi na dogodek\, kjer ti predstavimo nekaj osnov razvoja podjetniških idej\, specifike razvoja deep tech podjetniških projektov in tudi uspešne podjetniške zgodbe\, ki jih ne smeš spregledati.
 \n\n
X-ALT-DESC;FMTTYPE=text/html:Na tvoji podjetniški poti\, ti lahko Tovarna podjemov pomaga na različne načine. Pridi na dogodek\, kjer ti predstavimo nekaj osnov razvoja podjetniških idej\, specifike razvoja deep tech podjetniških projektov in tudi uspešne podjetniške zgodbe\, ki jih ne smeš spregledati.
 \n\n
LOCATION:
END:VEVENT
END:VCALENDAR