BEGIN:VCALENDAR
VERSION:2.0
PRODID:-//AddThisEvent.com v1.0//EN
BEGIN:VEVENT
DTSTAMP:20171128T180500Z
ORGANIZER;CN=STARTUP:MAILTO:info@startup.si
STATUS:CONFIRMED
DTSTART:20171128T180500Z
DTEND:20171128T190500Z
SUMMARY:Spletne urice #76: Hitro in počasi skozi oblikovanje: Design Sprint
DESCRIPTION:​V želji po čimbolj konsistentnem oblikovanju in hitrejših ter boljših rezultatih so pri Google Ventures pred parimi leti začeli uporabljati inovacijski proces\, znan kot “Design Sprint”. \n\n
X-ALT-DESC;FMTTYPE=text/html:​V želji po čimbolj konsistentnem oblikovanju in hitrejših ter boljših rezultatih so pri Google Ventures pred parimi leti začeli uporabljati inovacijski proces\, znan kot “Design Sprint”. \n\n
LOCATION:@KID KIBLA\, Maribor
END:VEVENT
END:VCALENDAR