BEGIN:VCALENDAR
VERSION:2.0
PRODID:-//AddThisEvent.com v1.0//EN
BEGIN:VEVENT
DTSTAMP:20241022T160000Z
ORGANIZER;CN=STARTUP:MAILTO:info@startup.si
STATUS:CONFIRMED
DTSTART:20241022T160000Z
DTEND:20241022T170000Z
SUMMARY:Od ideje do 42 milijonov: Milan Kuster o izgradnji globalnega podjetja
DESCRIPTION:Milan Kuster je podjetnik z vizijo. Njegov podjetniški vzpon je bil impresiven\, saj je v manj kot 15 letih podjetje I-Vent\, prej znano kot Lunos\, pripeljal do izjemnih rezultatov.  \n\n
X-ALT-DESC;FMTTYPE=text/html:Milan Kuster je podjetnik z vizijo. Njegov podjetniški vzpon je bil impresiven\, saj je v manj kot 15 letih podjetje I-Vent\, prej znano kot Lunos\, pripeljal do izjemnih rezultatov.  \n\n
LOCATION:KID Kibla
END:VEVENT
END:VCALENDAR