BEGIN:VCALENDAR
VERSION:2.0
PRODID:-//AddThisEvent.com v1.0//EN
BEGIN:VEVENT
DTSTAMP:20241022T060000Z
ORGANIZER;CN=STARTUP:MAILTO:info@startup.si
STATUS:CONFIRMED
DTSTART:20241022T060000Z
DTEND:20241022T070000Z
SUMMARY:Vztrajne in drzne podjetnice: Uspehi\, izzivi in lekcije iz prve roke
DESCRIPTION:Startup že dolgo ne velja za »moški posel«\, vendar je neizpodbitno dejstvo\, da je v startup svetu precej več moških kot žensk. Pa čeprav imajo te dokazano boljše čutne sposobnosti\, ki so pomembne pri vodenju timov\, prodaji ter organizaciji in vodenju v startupu nasploh.
 \n\n
X-ALT-DESC;FMTTYPE=text/html:Startup že dolgo ne velja za »moški posel«\, vendar je neizpodbitno dejstvo\, da je v startup svetu precej več moških kot žensk. Pa čeprav imajo te dokazano boljše čutne sposobnosti\, ki so pomembne pri vodenju timov\, prodaji ter organizaciji in vodenju v startupu nasploh.
 \n\n
LOCATION:Predavalnica PB\, Razlagova ulica 20
END:VEVENT
END:VCALENDAR