BEGIN:VCALENDAR
VERSION:2.0
PRODID:-//AddThisEvent.com v1.0//EN
BEGIN:VEVENT
DTSTAMP:20250120T100000Z
ORGANIZER;CN=STARTUP:MAILTO:info@startup.si
STATUS:CONFIRMED
DTSTART:20250120T100000Z
DTEND:20250120T110000Z
SUMMARY:Akademija inovativnega podjetništva na primerih iz prakse
DESCRIPTION:Pridruži se Akademiji inovativnega podjetništva\, kjer boš na praktičnih primerih spoznal celoten proces načrtovanja in gradnje inovativnih podjetij ter osvojil veščine\, ki te lahko popeljejo do podjetniškega uspeha. \n\n
X-ALT-DESC;FMTTYPE=text/html:Pridruži se Akademiji inovativnega podjetništva\, kjer boš na praktičnih primerih spoznal celoten proces načrtovanja in gradnje inovativnih podjetij ter osvojil veščine\, ki te lahko popeljejo do podjetniškega uspeha. \n\n
LOCATION:FERI
END:VEVENT
END:VCALENDAR