BEGIN:VCALENDAR
VERSION:2.0
PRODID:-//AddThisEvent.com v1.0//EN
BEGIN:VEVENT
DTSTAMP:20241008T160000Z
ORGANIZER;CN=STARTUP:MAILTO:info@startup.si
STATUS:CONFIRMED
DTSTART:20241008T160000Z
DTEND:20241008T170000Z
SUMMARY:Kako postati odličen vodja 
DESCRIPTION:Če želiš postati boljši vodja in se spopasti z najzahtevnejšimi situacijami v timu\, pridi na dogodek z vrhunskim startup trenerjem in strokovnjakom za ustvarjanje visoko učinkovitih timov z odličnim vodenjem.
 \n\n
X-ALT-DESC;FMTTYPE=text/html:Če želiš postati boljši vodja in se spopasti z najzahtevnejšimi situacijami v timu\, pridi na dogodek z vrhunskim startup trenerjem in strokovnjakom za ustvarjanje visoko učinkovitih timov z odličnim vodenjem.
 \n\n
LOCATION:KID Kibla
END:VEVENT
END:VCALENDAR