BEGIN:VCALENDAR
VERSION:2.0
PRODID:-//AddThisEvent.com v1.0//EN
BEGIN:VEVENT
DTSTAMP:20171121T180500Z
ORGANIZER;CN=STARTUP:MAILTO:info@startup.si
STATUS:CONFIRMED
DTSTART:20171121T180500Z
DTEND:20171121T190500Z
SUMMARY:Start:up Müsli: Fuck Up Night Maribor - večer dragocenih lekcij
DESCRIPTION:Najboljši recept kako uspeti? Uči se iz napak drugih!
 \n\n
X-ALT-DESC;FMTTYPE=text/html:Najboljši recept kako uspeti? Uči se iz napak drugih!
 \n\n
LOCATION:@KID Kibla
END:VEVENT
END:VCALENDAR