BEGIN:VCALENDAR
VERSION:2.0
PRODID:-//AddThisEvent.com v1.0//EN
BEGIN:VEVENT
DTSTAMP:20241002T130000Z
ORGANIZER;CN=STARTUP:MAILTO:info@startup.si
STATUS:CONFIRMED
DTSTART:20241002T130000Z
DTEND:20241002T140000Z
SUMMARY:Founders Meetup: 1:1 pogovori z izkušenimi podjetniki in mentorji  
DESCRIPTION:Tovarna podjemov te vabi na ekskluzivni Founders meetup\, tokrat obarvan malo drugače. To bo edinstvena priložnost\, da se srečaš z izkušenimi podjetniki in mentorji ter prejmeš dragocene nasvete za razvoj tvoje podjetniške ideje oziroma tvojega posla. \n\n
X-ALT-DESC;FMTTYPE=text/html:Tovarna podjemov te vabi na ekskluzivni Founders meetup\, tokrat obarvan malo drugače. To bo edinstvena priložnost\, da se srečaš z izkušenimi podjetniki in mentorji ter prejmeš dragocene nasvete za razvoj tvoje podjetniške ideje oziroma tvojega posla. \n\n
LOCATION:Tovarna podjemov\, Maribor
END:VEVENT
END:VCALENDAR