BEGIN:VCALENDAR
VERSION:2.0
PRODID:-//AddThisEvent.com v1.0//EN
BEGIN:VEVENT
DTSTAMP:20240604T160000Z
ORGANIZER;CN=STARTUP:MAILTO:info@startup.si
STATUS:CONFIRMED
DTSTART:20240604T160000Z
DTEND:20240604T170000Z
SUMMARY:Oblikovanje blagovne znamke s pomočjo vedenjske znanosti
DESCRIPTION:Na tokratnem Start:up Müsliju bomo gostili svetovnega “branding” guruja in vizionarja\, ki je s pomočjo uporabe vedenjske znanosti pomagal preobraziti globalne blagovne znamke kot so GE Healthcare\, Virgin\, Hoover in Starbucks. Te zanima kako se povezujeta vedenjska znanost in ustvarjanje blagovnih znamk? Beri naprej. 
 \n\n
X-ALT-DESC;FMTTYPE=text/html:Na tokratnem Start:up Müsliju bomo gostili svetovnega “branding” guruja in vizionarja\, ki je s pomočjo uporabe vedenjske znanosti pomagal preobraziti globalne blagovne znamke kot so GE Healthcare\, Virgin\, Hoover in Starbucks. Te zanima kako se povezujeta vedenjska znanost in ustvarjanje blagovnih znamk? Beri naprej. 
 \n\n
LOCATION:KID KIBLA
END:VEVENT
END:VCALENDAR