BEGIN:VCALENDAR
VERSION:2.0
PRODID:-//AddThisEvent.com v1.0//EN
BEGIN:VEVENT
DTSTAMP:20240305T170000Z
ORGANIZER;CN=STARTUP:MAILTO:info@startup.si
STATUS:CONFIRMED
DTSTART:20240305T170000Z
DTEND:20240305T180000Z
SUMMARY:Vroče tehnološke ideje: kaj navduši in kaj odbija investitorje 
DESCRIPTION:V Maribor prihajata Tunya Irkad iz turškega sklada tveganega kapitala 500 Emerging Europe ter Peter Merc iz Suricate Ventures\, ki bosta z vami delila svojo skupno strast: investiranje v tehnološka podjetja v zgodnjih fazah. Poslušala bosta tudi 90s pitche udeležencev. Si za? Želiš feedback ali pravi pritch za investicijo? \n\n
X-ALT-DESC;FMTTYPE=text/html:V Maribor prihajata Tunya Irkad iz turškega sklada tveganega kapitala 500 Emerging Europe ter Peter Merc iz Suricate Ventures\, ki bosta z vami delila svojo skupno strast: investiranje v tehnološka podjetja v zgodnjih fazah. Poslušala bosta tudi 90s pitche udeležencev. Si za? Želiš feedback ali pravi pritch za investicijo? \n\n
LOCATION:KID KIBLA
END:VEVENT
END:VCALENDAR