BEGIN:VCALENDAR
VERSION:2.0
PRODID:-//AddThisEvent.com v1.0//EN
BEGIN:VEVENT
DTSTAMP:20240416T063000Z
ORGANIZER;CN=STARTUP:MAILTO:info@startup.si
STATUS:CONFIRMED
DTSTART:20240416T063000Z
DTEND:20240416T073000Z
SUMMARY:Spodbujanje razvoja inovativnih podjetniških idej in njihova zaščita 
DESCRIPTION:Pridružite se nam na podjetniškem dogodku\, kjer vam bomo predstavili inovativne podjetniške ideje\, ki tlijo v podjetniškem inkubatorju Univerze v Mariboru\, Tovarni podjemov in tiste\, ki so že zanetile ogenj in danes že uspešno prodirajo na globalna tržišča. \n\n
X-ALT-DESC;FMTTYPE=text/html:Pridružite se nam na podjetniškem dogodku\, kjer vam bomo predstavili inovativne podjetniške ideje\, ki tlijo v podjetniškem inkubatorju Univerze v Mariboru\, Tovarni podjemov in tiste\, ki so že zanetile ogenj in danes že uspešno prodirajo na globalna tržišča. \n\n
LOCATION:EPF /Predavalnica  PA
END:VEVENT
END:VCALENDAR