BEGIN:VCALENDAR
VERSION:2.0
PRODID:-//AddThisEvent.com v1.0//EN
BEGIN:VEVENT
DTSTAMP:20231010T160000Z
ORGANIZER;CN=STARTUP:MAILTO:info@startup.si
STATUS:CONFIRMED
DTSTART:20231010T160000Z
DTEND:20231010T170000Z
SUMMARY:Startup Müsli: Nerazkrite poslovne priložnosti na področju uporabe geografskih podatkov
DESCRIPTION:Ne zamudi izjemne priložnosti za pridobivanje novega znanja in spoznaj\, kako s podatki\, ki jih zbirajo sateliti do donosnih poslovnih priložnosti.  \n\n
X-ALT-DESC;FMTTYPE=text/html:Ne zamudi izjemne priložnosti za pridobivanje novega znanja in spoznaj\, kako s podatki\, ki jih zbirajo sateliti do donosnih poslovnih priložnosti.  \n\n
LOCATION: KID Kibla
END:VEVENT
END:VCALENDAR