BEGIN:VCALENDAR
VERSION:2.0
PRODID:-//AddThisEvent.com v1.0//EN
BEGIN:VEVENT
DTSTAMP:20230925T160000Z
ORGANIZER;CN=STARTUP:MAILTO:info@startup.si
STATUS:CONFIRMED
DTSTART:20230925T160000Z
DTEND:20230925T170000Z
SUMMARY:Startup Müsli: Bird Buddy - Uspešna startup zgodba s Francijem Zidarjem
DESCRIPTION:Nepozabno potovanje v svet podjetniškega uspeha in razvoja novih atraktivnih produktov z Bird Buddy!  \n\n
X-ALT-DESC;FMTTYPE=text/html:Nepozabno potovanje v svet podjetniškega uspeha in razvoja novih atraktivnih produktov z Bird Buddy!  \n\n
LOCATION: KID Kibla
END:VEVENT
END:VCALENDAR