BEGIN:VCALENDAR
VERSION:2.0
PRODID:-//AddThisEvent.com v1.0//EN
BEGIN:VEVENT
DTSTAMP:20230628T100000Z
ORGANIZER;CN=STARTUP:MAILTO:info@startup.si
STATUS:CONFIRMED
DTSTART:20230628T100000Z
DTEND:20230628T110000Z
SUMMARY:“Check-lista” za komercializacijo vašega izuma
DESCRIPTION:Na praktični delavnici boste izvedeli kaj vse je potrebno narediti in vedeti\, da pripeljete vaš izum iz “laboratorija” na “trg”. \n\n
X-ALT-DESC;FMTTYPE=text/html:Na praktični delavnici boste izvedeli kaj vse je potrebno narediti in vedeti\, da pripeljete vaš izum iz “laboratorija” na “trg”. \n\n
LOCATION: Tovarna podjemov
END:VEVENT
END:VCALENDAR