BEGIN:VCALENDAR
VERSION:2.0
PRODID:-//AddThisEvent.com v1.0//EN
BEGIN:VEVENT
DTSTAMP:20230606T160000Z
ORGANIZER;CN=STARTUP:MAILTO:info@startup.si
STATUS:CONFIRMED
DTSTART:20230606T160000Z
DTEND:20230606T170000Z
SUMMARY:Startup Müsli: Kako oblikovati lastno logistiko: stanje\, trendi in priložnosti za inovacije
DESCRIPTION:Logistika se nanaša na načrtovanje\, izvajanje in nadzor gibanja ter skladiščenja blaga\, storitev in informacij od točke izvora do točke porabe. V zadnjih letih je logistična industrija doživela pomembne spremembe zaradi napredka tehnologije\, sprememb v vedenju potrošnikov in globalizacije. \n\n
X-ALT-DESC;FMTTYPE=text/html:Logistika se nanaša na načrtovanje\, izvajanje in nadzor gibanja ter skladiščenja blaga\, storitev in informacij od točke izvora do točke porabe. V zadnjih letih je logistična industrija doživela pomembne spremembe zaradi napredka tehnologije\, sprememb v vedenju potrošnikov in globalizacije. \n\n
LOCATION:KID Kibla\, Ulica kneza Koclja 9\, Maribor
END:VEVENT
END:VCALENDAR