BEGIN:VCALENDAR
VERSION:2.0
PRODID:-//AddThisEvent.com v1.0//EN
BEGIN:VEVENT
DTSTAMP:20230404T160000Z
ORGANIZER;CN=STARTUP:MAILTO:info@startup.si
STATUS:CONFIRMED
DTSTART:20230404T160000Z
DTEND:20230404T170000Z
SUMMARY:Startup Müsli: Izkoristi priložnosti v Web 3.0. industriji
DESCRIPTION:Niko Klanšek nas bo peljal v svet Web 3.0. in nam razkril\, kaj je Web 3.0\, kako je sestavljen\, kako bo vplival na našo prihodnost in kje se skrivajo največje priložnosti.  \n\n
X-ALT-DESC;FMTTYPE=text/html:Niko Klanšek nas bo peljal v svet Web 3.0. in nam razkril\, kaj je Web 3.0\, kako je sestavljen\, kako bo vplival na našo prihodnost in kje se skrivajo največje priložnosti.  \n\n
LOCATION:KID Kibla\, Ulica kneza Koclja 9\, Maribor
END:VEVENT
END:VCALENDAR