BEGIN:VCALENDAR
VERSION:2.0
PRODID:-//AddThisEvent.com v1.0//EN
BEGIN:VEVENT
DTSTAMP:20230215T130000Z
ORGANIZER;CN=STARTUP:MAILTO:info@startup.si
STATUS:CONFIRMED
DTSTART:20230215T130000Z
DTEND:20230215T140000Z
SUMMARY:Women in Tech and STEM
DESCRIPTION:Na prvem letošnjem meetupu mariborske tehnološke skupnosti bomo gostili Dr. Aubrey Paris\, svetovalko za inovacije\, podnebne spremembe in spol na ameriškem ministrstvu za zunanje zadeve. \n\n
X-ALT-DESC;FMTTYPE=text/html:Na prvem letošnjem meetupu mariborske tehnološke skupnosti bomo gostili Dr. Aubrey Paris\, svetovalko za inovacije\, podnebne spremembe in spol na ameriškem ministrstvu za zunanje zadeve. \n\n
LOCATION: Tovarna podjemov
END:VEVENT
END:VCALENDAR