BEGIN:VCALENDAR
VERSION:2.0
PRODID:-//AddThisEvent.com v1.0//EN
BEGIN:VEVENT
DTSTAMP:20230214T170000Z
ORGANIZER;CN=STARTUP:MAILTO:info@startup.si
STATUS:CONFIRMED
DTSTART:20230214T170000Z
DTEND:20230214T180000Z
SUMMARY:Startup Müsli: Prehod na in uporaba Google Analytics 4
DESCRIPTION:Kot potres je prihrumela informacija\, da bo Google ugasnil analitiko 1. julija 2023. In stare\, ki jo razumemo\, več ne bo. Zato vas naučimo nastaviti in uporabljati novo\, »GA4« analitiko. \n\n
X-ALT-DESC;FMTTYPE=text/html:Kot potres je prihrumela informacija\, da bo Google ugasnil analitiko 1. julija 2023. In stare\, ki jo razumemo\, več ne bo. Zato vas naučimo nastaviti in uporabljati novo\, »GA4« analitiko. \n\n
LOCATION: KID Kibla
END:VEVENT
END:VCALENDAR