BEGIN:VCALENDAR
VERSION:2.0
PRODID:-//AddThisEvent.com v1.0//EN
BEGIN:VEVENT
DTSTAMP:20230124T170000Z
ORGANIZER;CN=STARTUP:MAILTO:info@startup.si
STATUS:CONFIRMED
DTSTART:20230124T170000Z
DTEND:20230124T180000Z
SUMMARY:Startup Müsli: Kako lahko ChatGPT dvigne vašo produktivnost?
DESCRIPTION:Klepetalni robot ChatGPT\, ki so ga razvili v ameriškem OpenAI in je luč sveta zagledal lanskega novembra\, je naravnost obnorel poslovni svet. \n\n
X-ALT-DESC;FMTTYPE=text/html:Klepetalni robot ChatGPT\, ki so ga razvili v ameriškem OpenAI in je luč sveta zagledal lanskega novembra\, je naravnost obnorel poslovni svet. \n\n
LOCATION: Tehnološki park Ptuj
END:VEVENT
END:VCALENDAR