BEGIN:VCALENDAR
VERSION:2.0
PRODID:-//AddThisEvent.com v1.0//EN
BEGIN:VEVENT
DTSTAMP:20221221T120000Z
ORGANIZER;CN=STARTUP:MAILTO:info@startup.si
STATUS:CONFIRMED
DTSTART:20221221T120000Z
DTEND:20221221T130000Z
SUMMARY:Start:up Maribor Founders Meetup December 22'
DESCRIPTION:Udeležba na Founders Meetupu ti omogoča\, da spoznaš nove ljudi\, tiste ki se gibljejo na slovenski startup sceni\, mentorje\, podjetnike\, strokovnjake\, tiste\, ki ti lahko pomagajo na tvoji podjetniški poti. \n\n
X-ALT-DESC;FMTTYPE=text/html:Udeležba na Founders Meetupu ti omogoča\, da spoznaš nove ljudi\, tiste ki se gibljejo na slovenski startup sceni\, mentorje\, podjetnike\, strokovnjake\, tiste\, ki ti lahko pomagajo na tvoji podjetniški poti. \n\n
LOCATION: Tovarna podjemov
END:VEVENT
END:VCALENDAR