BEGIN:VCALENDAR
VERSION:2.0
PRODID:-//AddThisEvent.com v1.0//EN
BEGIN:VEVENT
DTSTAMP:20221206T180000Z
ORGANIZER;CN=STARTUP:MAILTO:info@startup.si
STATUS:CONFIRMED
DTSTART:20221206T180000Z
DTEND:20221206T190000Z
SUMMARY:Start:up Müsli: Zakaj rast ni samoumevna in kako jo obdržati?
DESCRIPTION:Ne zamudite zanimivega pogovora z izjemnimi posamezniki\, ki so vsak zase zakladnica poslovnih izkušenj in vam lahko z enim nasvetom rešijo svet ali izboljšajo vaš posel. \n\n
X-ALT-DESC;FMTTYPE=text/html:Ne zamudite zanimivega pogovora z izjemnimi posamezniki\, ki so vsak zase zakladnica poslovnih izkušenj in vam lahko z enim nasvetom rešijo svet ali izboljšajo vaš posel. \n\n
LOCATION: KID Kibla
END:VEVENT
END:VCALENDAR