BEGIN:VCALENDAR
VERSION:2.0
PRODID:-//AddThisEvent.com v1.0//EN
BEGIN:VEVENT
DTSTAMP:20221207T153000Z
ORGANIZER;CN=STARTUP:MAILTO:info@startup.si
STATUS:CONFIRMED
DTSTART:20221207T153000Z
DTEND:20221207T163000Z
SUMMARY:Kako do P2 sredstev za tvoj startup
DESCRIPTION:Imaš podjetniško idejo za razvoj inovativnega produkta/storitve? Potrebuješ nepovratna sredstva za pospešitev razvoja? Kot vsako leto doslej tudi v letu 2023 pričakujemo objavo razpisa P2. Pridi na dogodek in ugotovi\, ali tvoja ideja in podjetje sploh ustrezata pogojem razpisa. \n\n
X-ALT-DESC;FMTTYPE=text/html:Imaš podjetniško idejo za razvoj inovativnega produkta/storitve? Potrebuješ nepovratna sredstva za pospešitev razvoja? Kot vsako leto doslej tudi v letu 2023 pričakujemo objavo razpisa P2. Pridi na dogodek in ugotovi\, ali tvoja ideja in podjetje sploh ustrezata pogojem razpisa. \n\n
LOCATION: Tovarna podjemov
END:VEVENT
END:VCALENDAR