BEGIN:VCALENDAR
VERSION:2.0
PRODID:-//AddThisEvent.com v1.0//EN
BEGIN:VEVENT
DTSTAMP:20171107T180500Z
ORGANIZER;CN=STARTUP:MAILTO:info@startup.si
STATUS:CONFIRMED
DTSTART:20171107T180500Z
DTEND:20171107T190500Z
SUMMARY:Start:up Müsli: Umetnost storytellinga
DESCRIPTION:Na Start:up Musli smo povabili 3 goste\, ki nam bodo pomagali razumeti vidik »brand storytelling-a«. Med drugim jih bomo vprašali\, kakšne so lahko zgodbe\, kje in kdaj jih uporabimo\, kateri so elementi odlične zgodbe\, kako pomembna je vizualna usklajenost ter kaj se zgodi z zgodbo o naši blagovni znamki\, potem\, ko smo jo objavili na družbenih platformah. Imeli pa boste tudi priložnost\, da dobite odgovore na vaša vprašanja.  \n\n
X-ALT-DESC;FMTTYPE=text/html:Na Start:up Musli smo povabili 3 goste\, ki nam bodo pomagali razumeti vidik »brand storytelling-a«. Med drugim jih bomo vprašali\, kakšne so lahko zgodbe\, kje in kdaj jih uporabimo\, kateri so elementi odlične zgodbe\, kako pomembna je vizualna usklajenost ter kaj se zgodi z zgodbo o naši blagovni znamki\, potem\, ko smo jo objavili na družbenih platformah. Imeli pa boste tudi priložnost\, da dobite odgovore na vaša vprašanja.  \n\n
LOCATION:@KID KIBLA\, Maribor
END:VEVENT
END:VCALENDAR