BEGIN:VCALENDAR
VERSION:2.0
PRODID:-//AddThisEvent.com v1.0//EN
BEGIN:VEVENT
DTSTAMP:20221019T073000Z
ORGANIZER;CN=STARTUP:MAILTO:info@startup.si
STATUS:CONFIRMED
DTSTART:20221019T073000Z
DTEND:20221019T083000Z
SUMMARY:Navdihujoče zgodbe uspešnih startuperk
DESCRIPTION:Kako se v svetu startupov in podjetništva znajdejo ženske? Ali ženski pristop prinaša prednosti? Je sploh drugačen? Ali pa lahko rečemo\, da smo moški in ženske v startupu različno enaki? Pokazali vam bomo\, da v hitrem in drznem svetu startupov ni le moška družba. \n\n
X-ALT-DESC;FMTTYPE=text/html:Kako se v svetu startupov in podjetništva znajdejo ženske? Ali ženski pristop prinaša prednosti? Je sploh drugačen? Ali pa lahko rečemo\, da smo moški in ženske v startupu različno enaki? Pokazali vam bomo\, da v hitrem in drznem svetu startupov ni le moška družba. \n\n
LOCATION: EPF predavalnica P1.5
END:VEVENT
END:VCALENDAR