BEGIN:VCALENDAR
VERSION:2.0
PRODID:-//AddThisEvent.com v1.0//EN
BEGIN:VEVENT
DTSTAMP:20221220T140000Z
ORGANIZER;CN=STARTUP:MAILTO:info@startup.si
STATUS:CONFIRMED
DTSTART:20221220T140000Z
DTEND:20221220T150000Z
SUMMARY:Postavi temelje za uspešno startup podjetje
DESCRIPTION:Pridruži se nam na seriji delavnic\, kjer bomo s preizkušeno metodo postavili temelje za tvoj startup. \n\n
X-ALT-DESC;FMTTYPE=text/html:Pridruži se nam na seriji delavnic\, kjer bomo s preizkušeno metodo postavili temelje za tvoj startup. \n\n
LOCATION:Tovarna podjemov
END:VEVENT
END:VCALENDAR