BEGIN:VCALENDAR
VERSION:2.0
PRODID:-//AddThisEvent.com v1.0//EN
BEGIN:VEVENT
DTSTAMP:20220929T170000Z
ORGANIZER;CN=STARTUP:MAILTO:info@startup.si
STATUS:CONFIRMED
DTSTART:20220929T170000Z
DTEND:20220929T180000Z
SUMMARY:Start:up Müsli: Kaj imajo skupnega šport\, motivacija in podjetništvo
DESCRIPTION:V ring tokratnega Startup Muslija smo postavili šport vs. podjetništvo. K mikrofonu smo povabili nogometno legendo in podjetnika Marcosa Tavaresa in enega najuspešnejših slovenskih mentalnih trenerjev Mateja Lunežnika.
 \n\n
X-ALT-DESC;FMTTYPE=text/html:V ring tokratnega Startup Muslija smo postavili šport vs. podjetništvo. K mikrofonu smo povabili nogometno legendo in podjetnika Marcosa Tavaresa in enega najuspešnejših slovenskih mentalnih trenerjev Mateja Lunežnika.
 \n\n
LOCATION:KID Kibla
END:VEVENT
END:VCALENDAR