BEGIN:VCALENDAR
VERSION:2.0
PRODID:-//AddThisEvent.com v1.0//EN
BEGIN:VEVENT
DTSTAMP:20220922T130000Z
ORGANIZER;CN=STARTUP:MAILTO:info@startup.si
STATUS:CONFIRMED
DTSTART:20220922T130000Z
DTEND:20220922T140000Z
SUMMARY:Zdrav denarni tok v podjetju
DESCRIPTION:Nič koliko podjetjem se je že zgodilo\, da so se kljub večanju prihodkov znašli v finančnih težavah... Naj se to ne zgodi tudi tebi! Pridi na delavnico in se nauči obvladati svoje finance. \n\n
X-ALT-DESC;FMTTYPE=text/html:Nič koliko podjetjem se je že zgodilo\, da so se kljub večanju prihodkov znašli v finančnih težavah... Naj se to ne zgodi tudi tebi! Pridi na delavnico in se nauči obvladati svoje finance. \n\n
LOCATION:Tovarna podjemov
END:VEVENT
END:VCALENDAR