BEGIN:VCALENDAR
VERSION:2.0
PRODID:-//AddThisEvent.com v1.0//EN
BEGIN:VEVENT
DTSTAMP:20220826T130000Z
ORGANIZER;CN=STARTUP:MAILTO:info@startup.si
STATUS:CONFIRMED
DTSTART:20220826T130000Z
DTEND:20220826T140000Z
SUMMARY:Orodja in pripomočki za social media managerje
DESCRIPTION:Če želiš svojemu dnevu dodati nekaj ur\, povečati svojo produktivnost\, delati manj in zmanjšati nivo stresa\, ki ga doživljaš\, potem pridi na delavnico. \n\n
X-ALT-DESC;FMTTYPE=text/html:Če želiš svojemu dnevu dodati nekaj ur\, povečati svojo produktivnost\, delati manj in zmanjšati nivo stresa\, ki ga doživljaš\, potem pridi na delavnico. \n\n
LOCATION:Tovarna podjemov
END:VEVENT
END:VCALENDAR