BEGIN:VCALENDAR
VERSION:2.0
PRODID:-//AddThisEvent.com v1.0//EN
BEGIN:VEVENT
DTSTAMP:20220825T130000Z
ORGANIZER;CN=STARTUP:MAILTO:info@startup.si
STATUS:CONFIRMED
DTSTART:20220825T130000Z
DTEND:20220825T140000Z
SUMMARY:YouTube oglaševanje v praksi
DESCRIPTION:Se želiš naučiti oglaševati na drugi največji iskalni platformi na svetu? \n\n
X-ALT-DESC;FMTTYPE=text/html:Se želiš naučiti oglaševati na drugi največji iskalni platformi na svetu? \n\n
LOCATION:Tovarna podjemov
END:VEVENT
END:VCALENDAR