BEGIN:VCALENDAR
VERSION:2.0
PRODID:-//AddThisEvent.com v1.0//EN
BEGIN:VEVENT
DTSTAMP:20171024T170500Z
ORGANIZER;CN=STARTUP:MAILTO:info@startup.si
STATUS:CONFIRMED
DTSTART:20171024T170500Z
DTEND:20171024T180500Z
SUMMARY:Start:up Müsli: Prodaja. Kako uspeva najboljšim?
DESCRIPTION:Konkurence je zelo veliko\, kupci pa so zelo zahtevni. Prodaja danes pomeni odnos\, ne le tekmovanje v kakovosti in ceni. Potrebno je bistveno več energije za vzpostavitev odnosa s strankami in pridobitev njihovega zaupanja.  \n\n
X-ALT-DESC;FMTTYPE=text/html:Konkurence je zelo veliko\, kupci pa so zelo zahtevni. Prodaja danes pomeni odnos\, ne le tekmovanje v kakovosti in ceni. Potrebno je bistveno več energije za vzpostavitev odnosa s strankami in pridobitev njihovega zaupanja.  \n\n
LOCATION:@KID KIBLA\, Maribor
END:VEVENT
END:VCALENDAR