BEGIN:VCALENDAR
VERSION:2.0
PRODID:-//AddThisEvent.com v1.0//EN
BEGIN:VEVENT
DTSTAMP:20220627T160000Z
ORGANIZER;CN=STARTUP:MAILTO:info@startup.si
STATUS:CONFIRMED
DTSTART:20220627T160000Z
DTEND:20220627T170000Z
SUMMARY:Start:up Müsli: Varen\, povezan\, varčen. Kaj pa je zate pameten dom? 	
DESCRIPTION:Vabimo te na podjetniški pogovor\, v katerem bomo govorili o poslovnih priložnostih\, izzivih in trendinh na področju pametnega doma.  \n\n
X-ALT-DESC;FMTTYPE=text/html:Vabimo te na podjetniški pogovor\, v katerem bomo govorili o poslovnih priložnostih\, izzivih in trendinh na področju pametnega doma.  \n\n
LOCATION:Pisarna - KMŠ in ONLINE
END:VEVENT
END:VCALENDAR