BEGIN:VCALENDAR
VERSION:2.0
PRODID:-//AddThisEvent.com v1.0//EN
BEGIN:VEVENT
DTSTAMP:20220609T140000Z
ORGANIZER;CN=STARTUP:MAILTO:info@startup.si
STATUS:CONFIRMED
DTSTART:20220609T140000Z
DTEND:20220609T150000Z
SUMMARY:Pitch Perfect »Start:up Maribor 2022«
DESCRIPTION:V živo prisluhni najboljšim podjetniškim idejam\, ki so se v zadnjem obdobju kalila tudi s pomočjo Tovarne podjemov.  Med drugimi se ti bodo predstavila podjetja Auralix\, Gridtech\, Ball Back System\, Priot\,  ElevonX\, INFI7\, Interceptor\, PiBiP in Altbit. \n\n
X-ALT-DESC;FMTTYPE=text/html:V živo prisluhni najboljšim podjetniškim idejam\, ki so se v zadnjem obdobju kalila tudi s pomočjo Tovarne podjemov.  Med drugimi se ti bodo predstavila podjetja Auralix\, Gridtech\, Ball Back System\, Priot\,  ElevonX\, INFI7\, Interceptor\, PiBiP in Altbit. \n\n
LOCATION:Tovarna podjemov
END:VEVENT
END:VCALENDAR