BEGIN:VCALENDAR
VERSION:2.0
PRODID:-//AddThisEvent.com v1.0//EN
BEGIN:VEVENT
DTSTAMP:20220310T140000Z
ORGANIZER;CN=STARTUP:MAILTO:info@startup.si
STATUS:CONFIRMED
DTSTART:20220310T140000Z
DTEND:20220310T150000Z
SUMMARY:Postani profi prodaje na Etsy
DESCRIPTION:Želiš uspešno prodajati na Etsy? Pridruži se programu\, ki ti omogoča\, da postaneš profi prodaje na Etsy. V okviru programa te bomo opremili s praktičnim znanjem za uspešno delovanje Etsy trgovine. \n\n
X-ALT-DESC;FMTTYPE=text/html:Želiš uspešno prodajati na Etsy? Pridruži se programu\, ki ti omogoča\, da postaneš profi prodaje na Etsy. V okviru programa te bomo opremili s praktičnim znanjem za uspešno delovanje Etsy trgovine. \n\n
LOCATION:Online
END:VEVENT
END:VCALENDAR