BEGIN:VCALENDAR
VERSION:2.0
PRODID:-//AddThisEvent.com v1.0//EN
BEGIN:VEVENT
DTSTAMP:20220111T180000Z
ORGANIZER;CN=STARTUP:MAILTO:info@startup.si
STATUS:CONFIRMED
DTSTART:20220111T180000Z
DTEND:20220111T190000Z
SUMMARY:Start:up Müsli: Kako zgraditi mednarodni marketplace
DESCRIPTION:Izgradnja mednarodnega online marketplace-a\, platforme oziroma spletne tržnice je v zadnjih letih\, ko je svet še močneje zajel val digitalizacije\, postala precej donosen posel. Samo pomisli na Airbnb\, Amazon\, eBay in druge. Pridi na Start:up Müsli\, kjer bomo skozi dva primera uspešnih podjetniških praks - Daibau in Epidemic - odkrivali zakulisje uspeha platform. \n\n
X-ALT-DESC;FMTTYPE=text/html:Izgradnja mednarodnega online marketplace-a\, platforme oziroma spletne tržnice je v zadnjih letih\, ko je svet še močneje zajel val digitalizacije\, postala precej donosen posel. Samo pomisli na Airbnb\, Amazon\, eBay in druge. Pridi na Start:up Müsli\, kjer bomo skozi dva primera uspešnih podjetniških praks - Daibau in Epidemic - odkrivali zakulisje uspeha platform. \n\n
LOCATION:Online
END:VEVENT
END:VCALENDAR