BEGIN:VCALENDAR
VERSION:2.0
PRODID:-//AddThisEvent.com v1.0//EN
BEGIN:VEVENT
DTSTAMP:20220111T120000Z
ORGANIZER;CN=STARTUP:MAILTO:info@startup.si
STATUS:CONFIRMED
DTSTART:20220111T120000Z
DTEND:20220111T130000Z
SUMMARY:Pravo & startupi: od ustanovitve\, pa do exit-a
DESCRIPTION:Organiziramo delavnico\, ki ti bo pomagala odgovoriti na številna pravna vprašanja\, s katerimi se dnevno srečuješ. Že vizualiziraš exit? Ni problem\, saj bomo na delavnici spregovorili tudi o tem.  \n\n
X-ALT-DESC;FMTTYPE=text/html:Organiziramo delavnico\, ki ti bo pomagala odgovoriti na številna pravna vprašanja\, s katerimi se dnevno srečuješ. Že vizualiziraš exit? Ni problem\, saj bomo na delavnici spregovorili tudi o tem.  \n\n
LOCATION:Online
END:VEVENT
END:VCALENDAR