BEGIN:VCALENDAR
VERSION:2.0
PRODID:-//AddThisEvent.com v1.0//EN
BEGIN:VEVENT
DTSTAMP:20171017T170500Z
ORGANIZER;CN=STARTUP:MAILTO:info@startup.si
STATUS:CONFIRMED
DTSTART:20171017T170500Z
DTEND:20171017T180500Z
SUMMARY:Spletne urice #74: Surfajmo z Bitcoinom!
DESCRIPTION:Bi rad zajahal val trenutnega buzza okoli blockchaina\, pa ne veš kako deluje? Bi rad tudi investiral\, vendar še ne veš\, kako ali pa v katero valuto? Odgovore na ta vprašanja bomo raziskovali na tokratnih uricah na karseda razumljiv in interaktiven način. \n\n
X-ALT-DESC;FMTTYPE=text/html:Bi rad zajahal val trenutnega buzza okoli blockchaina\, pa ne veš kako deluje? Bi rad tudi investiral\, vendar še ne veš\, kako ali pa v katero valuto? Odgovore na ta vprašanja bomo raziskovali na tokratnih uricah na karseda razumljiv in interaktiven način. \n\n
LOCATION:@KID KIBLA\, Maribor
END:VEVENT
END:VCALENDAR