BEGIN:VCALENDAR
VERSION:2.0
PRODID:-//AddThisEvent.com v1.0//EN
BEGIN:VEVENT
DTSTAMP:20220322T140000Z
ORGANIZER;CN=STARTUP:MAILTO:info@startup.si
STATUS:CONFIRMED
DTSTART:20220322T140000Z
DTEND:20220322T150000Z
SUMMARY:Pospeševalni program Tovarne podjemov za razvoj ideje in zagon startup podjetja
DESCRIPTION:Tovarna podjemov sprejema nove člane. Pripravili smo program\, ki bo pospešil tvoj napredek\, od ideje do uspešnega startup podjetja. \n\n
X-ALT-DESC;FMTTYPE=text/html:Tovarna podjemov sprejema nove člane. Pripravili smo program\, ki bo pospešil tvoj napredek\, od ideje do uspešnega startup podjetja. \n\n
LOCATION:Tovarna podjemov
END:VEVENT
END:VCALENDAR