BEGIN:VCALENDAR
VERSION:2.0
PRODID:-//AddThisEvent.com v1.0//EN
BEGIN:VEVENT
DTSTAMP:20211222T120000Z
ORGANIZER;CN=STARTUP:MAILTO:info@startup.si
STATUS:CONFIRMED
DTSTART:20211222T120000Z
DTEND:20211222T130000Z
SUMMARY:Splaniraj objave na Facebooku in Instagramu za 2022
DESCRIPTION:Pridi na praktično delavnico in se nauči kreirati učinkovite objave na družbenih omrežjih. Marketinška strokovnjakinja Tanja Ciglarič te bo peljala čez vse podrobnosti\, ki jih moraš vedeti o Facebooku in Instagramu\, naučila te bo\, kako sestaviti tekst za objavo\, katere kriterije upoštevati ob izboru slike\, kje kreirati video vsebine\, skupaj boste analizirali konkretne objave in slišali predloge\, kako bi jih lahko izboljšali. \n\n
X-ALT-DESC;FMTTYPE=text/html:Pridi na praktično delavnico in se nauči kreirati učinkovite objave na družbenih omrežjih. Marketinška strokovnjakinja Tanja Ciglarič te bo peljala čez vse podrobnosti\, ki jih moraš vedeti o Facebooku in Instagramu\, naučila te bo\, kako sestaviti tekst za objavo\, katere kriterije upoštevati ob izboru slike\, kje kreirati video vsebine\, skupaj boste analizirali konkretne objave in slišali predloge\, kako bi jih lahko izboljšali. \n\n
LOCATION:Online
END:VEVENT
END:VCALENDAR