BEGIN:VCALENDAR
VERSION:2.0
PRODID:-//AddThisEvent.com v1.0//EN
BEGIN:VEVENT
DTSTAMP:20211129T110000Z
ORGANIZER;CN=STARTUP:MAILTO:info@startup.si
STATUS:CONFIRMED
DTSTART:20211129T110000Z
DTEND:20211129T120000Z
SUMMARY:E-mail in SEO marketing za rast prodaje
DESCRIPTION:Ne glede na to\, če si za klasiko ali trende\, eno je jasno - e-mail marketing je tvoje najmočnejše orodje za komunikacijo s svojimi kupci\, stara dobra SEO optimizacija pa tista\, ki med milijoni uporabnikov Google iskalnika izbere prave in jih usmeri na tvojo spletno stran. Pridi na delavnico z enim izmed najbolj uveljavljenih strokovnjakov za spletni marketing v Sloveniji Petrom Mesarcem in poveži ter optimiziraj ta dva sistema za rast prodaje. \n\n
X-ALT-DESC;FMTTYPE=text/html:Ne glede na to\, če si za klasiko ali trende\, eno je jasno - e-mail marketing je tvoje najmočnejše orodje za komunikacijo s svojimi kupci\, stara dobra SEO optimizacija pa tista\, ki med milijoni uporabnikov Google iskalnika izbere prave in jih usmeri na tvojo spletno stran. Pridi na delavnico z enim izmed najbolj uveljavljenih strokovnjakov za spletni marketing v Sloveniji Petrom Mesarcem in poveži ter optimiziraj ta dva sistema za rast prodaje. \n\n
LOCATION:Online
END:VEVENT
END:VCALENDAR