BEGIN:VCALENDAR
VERSION:2.0
PRODID:-//AddThisEvent.com v1.0//EN
BEGIN:VEVENT
DTSTAMP:20211206T140000Z
ORGANIZER;CN=STARTUP:MAILTO:info@startup.si
STATUS:CONFIRMED
DTSTART:20211206T140000Z
DTEND:20211206T150000Z
SUMMARY:Začetni tečaj FIGME - Spletno oblikovanje v praksi 
DESCRIPTION:Če bi rad pridobil osnovna znanja programa FIGMA\, si vabljen na delavnico\, kjer bomo v 3h urah predelali osnove in spoznali\, kako poteka proces oblikovanja. \n\n
X-ALT-DESC;FMTTYPE=text/html:Če bi rad pridobil osnovna znanja programa FIGMA\, si vabljen na delavnico\, kjer bomo v 3h urah predelali osnove in spoznali\, kako poteka proces oblikovanja. \n\n
LOCATION:Tovarna podjemov
END:VEVENT
END:VCALENDAR